BEGIN:VCALENDAR
VERSION:2.0
PRODID:-//ADVOCAP - ECPv6.15.14//NONSGML v1.0//EN
CALSCALE:GREGORIAN
METHOD:PUBLISH
X-ORIGINAL-URL:https://advocap-staging-byevakeyhgakaue5.westus3-01.azurewebsites.net
X-WR-CALDESC:Events for ADVOCAP
REFRESH-INTERVAL;VALUE=DURATION:PT1H
X-Robots-Tag:noindex
X-PUBLISHED-TTL:PT1H
BEGIN:VTIMEZONE
TZID:America/Chicago
BEGIN:DAYLIGHT
TZOFFSETFROM:-0600
TZOFFSETTO:-0500
TZNAME:CDT
DTSTART:20230312T080000
END:DAYLIGHT
BEGIN:STANDARD
TZOFFSETFROM:-0500
TZOFFSETTO:-0600
TZNAME:CST
DTSTART:20231105T070000
END:STANDARD
BEGIN:DAYLIGHT
TZOFFSETFROM:-0600
TZOFFSETTO:-0500
TZNAME:CDT
DTSTART:20240310T080000
END:DAYLIGHT
BEGIN:STANDARD
TZOFFSETFROM:-0500
TZOFFSETTO:-0600
TZNAME:CST
DTSTART:20241103T070000
END:STANDARD
BEGIN:DAYLIGHT
TZOFFSETFROM:-0600
TZOFFSETTO:-0500
TZNAME:CDT
DTSTART:20250309T080000
END:DAYLIGHT
BEGIN:STANDARD
TZOFFSETFROM:-0500
TZOFFSETTO:-0600
TZNAME:CST
DTSTART:20251102T070000
END:STANDARD
END:VTIMEZONE
BEGIN:VEVENT
DTSTART;TZID=America/Chicago:20240917T170000
DTEND;TZID=America/Chicago:20240917T183000
DTSTAMP:20260425T084341
CREATED:20240828T130320Z
LAST-MODIFIED:20240828T130321Z
UID:50920-1726592400-1726597800@advocap-staging-byevakeyhgakaue5.westus3-01.azurewebsites.net
SUMMARY:Head Start Family Engagement Event
DESCRIPTION:LOCATIONS: North Fond du Lac \n\n\n\nYou’re invited to our Head Start Family Engagement event! We’re all about building strong\, positive relationships between families\, kids\, and our amazing early childhood professionals. Together\, we create a supportive learning environment where everyone thrives. This event is all about connecting\, sharing goals\, and working as a team to give our kids the best start possible. Plus\, it’s a great way to meet other families and become part of our vibrant Head Start community. Let’s join forces to support our kids\, strengthen our families\, and make a real impact in our community!
URL:https://advocap-staging-byevakeyhgakaue5.westus3-01.azurewebsites.net/event/head-start-family-engagement-event-2/
LOCATION:Head Start North Fond du Lac Early Learning Center\, 923 Minnesota Avenue\, North Fond du Lac\, WI\, 54937\, United States
CATEGORIES:Head Start Event
ORGANIZER;CN="ADVOCAP Head Start":MAILTO:headstart@advocap.org
END:VEVENT
END:VCALENDAR