BEGIN:VCALENDAR
VERSION:2.0
PRODID:-//ADVOCAP - ECPv6.15.14//NONSGML v1.0//EN
CALSCALE:GREGORIAN
METHOD:PUBLISH
X-ORIGINAL-URL:https://advocap-staging-byevakeyhgakaue5.westus3-01.azurewebsites.net
X-WR-CALDESC:Events for ADVOCAP
REFRESH-INTERVAL;VALUE=DURATION:PT1H
X-Robots-Tag:noindex
X-PUBLISHED-TTL:PT1H
BEGIN:VTIMEZONE
TZID:America/Chicago
BEGIN:DAYLIGHT
TZOFFSETFROM:-0600
TZOFFSETTO:-0500
TZNAME:CDT
DTSTART:20230312T080000
END:DAYLIGHT
BEGIN:STANDARD
TZOFFSETFROM:-0500
TZOFFSETTO:-0600
TZNAME:CST
DTSTART:20231105T070000
END:STANDARD
BEGIN:DAYLIGHT
TZOFFSETFROM:-0600
TZOFFSETTO:-0500
TZNAME:CDT
DTSTART:20240310T080000
END:DAYLIGHT
BEGIN:STANDARD
TZOFFSETFROM:-0500
TZOFFSETTO:-0600
TZNAME:CST
DTSTART:20241103T070000
END:STANDARD
BEGIN:DAYLIGHT
TZOFFSETFROM:-0600
TZOFFSETTO:-0500
TZNAME:CDT
DTSTART:20250309T080000
END:DAYLIGHT
BEGIN:STANDARD
TZOFFSETFROM:-0500
TZOFFSETTO:-0600
TZNAME:CST
DTSTART:20251102T070000
END:STANDARD
END:VTIMEZONE
BEGIN:VEVENT
DTSTART;TZID=America/Chicago:20240615T110000
DTEND;TZID=America/Chicago:20240615T170000
DTSTAMP:20260425T141940
CREATED:20240606T153219Z
LAST-MODIFIED:20240606T153221Z
UID:50388-1718449200-1718470800@advocap-staging-byevakeyhgakaue5.westus3-01.azurewebsites.net
SUMMARY:Juneteenth: A Celebration of Freedom
DESCRIPTION:Celebrate Juneteenth with us as we honor its legacy and significance. Join in commemorating this historic milestone\, celebrating African American resilience\, heritage\, and achievements.
URL:https://advocap-staging-byevakeyhgakaue5.westus3-01.azurewebsites.net/event/juneteenth-celebration-of-freedom/
LOCATION:WI
ATTACH;FMTTYPE=image/jpeg:/wp-content/uploads/2024/06/juneteenth.jpg
END:VEVENT
END:VCALENDAR