BEGIN:VCALENDAR
VERSION:2.0
PRODID:-//ADVOCAP - ECPv6.15.14//NONSGML v1.0//EN
CALSCALE:GREGORIAN
METHOD:PUBLISH
X-WR-CALNAME:ADVOCAP
X-ORIGINAL-URL:https://advocap-staging-byevakeyhgakaue5.westus3-01.azurewebsites.net
X-WR-CALDESC:Events for ADVOCAP
REFRESH-INTERVAL;VALUE=DURATION:PT1H
X-Robots-Tag:noindex
X-PUBLISHED-TTL:PT1H
BEGIN:VTIMEZONE
TZID:America/Chicago
BEGIN:DAYLIGHT
TZOFFSETFROM:-0600
TZOFFSETTO:-0500
TZNAME:CDT
DTSTART:20230312T080000
END:DAYLIGHT
BEGIN:STANDARD
TZOFFSETFROM:-0500
TZOFFSETTO:-0600
TZNAME:CST
DTSTART:20231105T070000
END:STANDARD
BEGIN:DAYLIGHT
TZOFFSETFROM:-0600
TZOFFSETTO:-0500
TZNAME:CDT
DTSTART:20240310T080000
END:DAYLIGHT
BEGIN:STANDARD
TZOFFSETFROM:-0500
TZOFFSETTO:-0600
TZNAME:CST
DTSTART:20241103T070000
END:STANDARD
BEGIN:DAYLIGHT
TZOFFSETFROM:-0600
TZOFFSETTO:-0500
TZNAME:CDT
DTSTART:20250309T080000
END:DAYLIGHT
BEGIN:STANDARD
TZOFFSETFROM:-0500
TZOFFSETTO:-0600
TZNAME:CST
DTSTART:20251102T070000
END:STANDARD
END:VTIMEZONE
BEGIN:VEVENT
DTSTART;TZID=America/Chicago:20240516T170000
DTEND;TZID=America/Chicago:20240516T210000
DTSTAMP:20260425T083439
CREATED:20240510T171935Z
LAST-MODIFIED:20240510T172017Z
UID:50309-1715878800-1715893200@advocap-staging-byevakeyhgakaue5.westus3-01.azurewebsites.net
SUMMARY:ADVOCAP Annual Meeting
DESCRIPTION:5:00PM: Reception & Registration \n6:00PM: Dinner \n7:00PM Annual Review & Awards Presentation
URL:https://advocap-staging-byevakeyhgakaue5.westus3-01.azurewebsites.net/event/advocap-annual-meeting-2/
LOCATION:Heidel House Resort & Conference Center\, 653 Illinois Ave\, Green Lake\, WI\, 54941\, United States
END:VEVENT
END:VCALENDAR