BEGIN:VCALENDAR
VERSION:2.0
PRODID:-//ADVOCAP - ECPv6.15.14//NONSGML v1.0//EN
CALSCALE:GREGORIAN
METHOD:PUBLISH
X-WR-CALNAME:ADVOCAP
X-ORIGINAL-URL:https://advocap-staging-byevakeyhgakaue5.westus3-01.azurewebsites.net
X-WR-CALDESC:Events for ADVOCAP
REFRESH-INTERVAL;VALUE=DURATION:PT1H
X-Robots-Tag:noindex
X-PUBLISHED-TTL:PT1H
BEGIN:VTIMEZONE
TZID:America/Chicago
BEGIN:DAYLIGHT
TZOFFSETFROM:-0600
TZOFFSETTO:-0500
TZNAME:CDT
DTSTART:20230312T080000
END:DAYLIGHT
BEGIN:STANDARD
TZOFFSETFROM:-0500
TZOFFSETTO:-0600
TZNAME:CST
DTSTART:20231105T070000
END:STANDARD
BEGIN:DAYLIGHT
TZOFFSETFROM:-0600
TZOFFSETTO:-0500
TZNAME:CDT
DTSTART:20240310T080000
END:DAYLIGHT
BEGIN:STANDARD
TZOFFSETFROM:-0500
TZOFFSETTO:-0600
TZNAME:CST
DTSTART:20241103T070000
END:STANDARD
BEGIN:DAYLIGHT
TZOFFSETFROM:-0600
TZOFFSETTO:-0500
TZNAME:CDT
DTSTART:20250309T080000
END:DAYLIGHT
BEGIN:STANDARD
TZOFFSETFROM:-0500
TZOFFSETTO:-0600
TZNAME:CST
DTSTART:20251102T070000
END:STANDARD
END:VTIMEZONE
BEGIN:VEVENT
DTSTART;TZID=America/Chicago:20240808T120000
DTEND;TZID=America/Chicago:20240808T150000
DTSTAMP:20260425T165723
CREATED:20240724T201201Z
LAST-MODIFIED:20240724T201431Z
UID:50723-1723118400-1723129200@advocap-staging-byevakeyhgakaue5.westus3-01.azurewebsites.net
SUMMARY:Bluejay Back-to-School Bash
DESCRIPTION:Join ADVOCAP and the Menasha Community for a fun-filled afternoon to kick off the 2024-25 school year! \n\n\n\n\n\n\n\n Menasha High School \n\n\n\n Thursday\, August 8th \n\n\n\n 12:00pm – 3:00pm \n\n\n\nSee you there\, #MenashaPride community!
URL:https://advocap-staging-byevakeyhgakaue5.westus3-01.azurewebsites.net/event/bluejay-back-to-schoo-bash/
LOCATION:Menasha High School\, 420 7th Street\, Menasha\, WI\, 54952\, United States
END:VEVENT
BEGIN:VEVENT
DTSTART;TZID=America/Chicago:20240814T080000
DTEND;TZID=America/Chicago:20240814T180000
DTSTAMP:20260425T165723
CREATED:20240716T123929Z
LAST-MODIFIED:20240716T125711Z
UID:50645-1723622400-1723658400@advocap-staging-byevakeyhgakaue5.westus3-01.azurewebsites.net
SUMMARY:Back to School Fair Oshkosh
DESCRIPTION:Join the 2024 Back to School Fair on August 14-15! This impactful event unites Oshkosh community agencies to support students\, streamline resources\, and foster a stronger educational environment. Don’t miss out on this unique opportunity to contribute to the greater good of our community! \n\n\n\nThe fair offers a variety of items\, including: Backpacks with school supplies\, School-appropriate clothing\, Hygiene items\, Free haircuts from local hairstylists\, and Shoe vouchers.
URL:https://advocap-staging-byevakeyhgakaue5.westus3-01.azurewebsites.net/event/back-to-school-fair-oshkosh/
LOCATION:Boys & Girls Club of Oshkosh\, 501 E Parkway Ave\, Oshkosh\, WI\, 549401\, United States
ORGANIZER;CN="Boys & Girls Club of Oshkosh":MAILTO:info@bgcosh.org
END:VEVENT
BEGIN:VEVENT
DTSTART;TZID=America/Chicago:20240815T080000
DTEND;TZID=America/Chicago:20240815T180000
DTSTAMP:20260425T165723
CREATED:20240716T124111Z
LAST-MODIFIED:20240716T124112Z
UID:50649-1723708800-1723744800@advocap-staging-byevakeyhgakaue5.westus3-01.azurewebsites.net
SUMMARY:Back to School Fair Oshkosh
DESCRIPTION:Join the 2024 Back to School Fair on August 14-15! This impactful event unites Oshkosh community agencies to support students\, streamline resources\, and foster a stronger educational environment. Don’t miss out on this unique opportunity to contribute to the greater good of our community! \n\n\n\nThe fair offers a variety of items\, including: Backpacks with school supplies\, School-appropriate clothing\, Hygiene items\, Free haircuts from local hairstylists\, and Shoe vouchers.
URL:https://advocap-staging-byevakeyhgakaue5.westus3-01.azurewebsites.net/event/back-to-school-fair-oshkosh-2/
LOCATION:Boys & Girls Club of Oshkosh\, 501 E Parkway Ave\, Oshkosh\, WI\, 549401\, United States
ORGANIZER;CN="Boys & Girls Club of Oshkosh":MAILTO:info@bgcosh.org
END:VEVENT
BEGIN:VEVENT
DTSTART;TZID=America/Chicago:20240815T170000
DTEND;TZID=America/Chicago:20240815T200000
DTSTAMP:20260425T165723
CREATED:20240510T162121Z
LAST-MODIFIED:20240510T162122Z
UID:50282-1723741200-1723752000@advocap-staging-byevakeyhgakaue5.westus3-01.azurewebsites.net
SUMMARY:ADVOCAP Committee Meetings
DESCRIPTION:ADVOCAP Committee Meetings will be held at the J.P. Coughlin Center.* \n5:00 PM – Finance & Personnel Committee \n6:00 PM – Advocacy & Operations Committee \n7:00 PM – Planning & Program Development \n*Meeting start times are subject to change based on agenda.
URL:https://advocap-staging-byevakeyhgakaue5.westus3-01.azurewebsites.net/event/advocap-committee-meetings-8/
LOCATION:J.P. Coughlin Center\, 625 E. County Road Y\, Suite 600\, Oshkosh\, WI\, 54901\, United States
END:VEVENT
BEGIN:VEVENT
DTSTART;TZID=America/Chicago:20240817T083000
DTEND;TZID=America/Chicago:20240817T123000
DTSTAMP:20260425T165723
CREATED:20240716T131135Z
LAST-MODIFIED:20240716T131136Z
UID:50651-1723883400-1723897800@advocap-staging-byevakeyhgakaue5.westus3-01.azurewebsites.net
SUMMARY:Back to School FDL
DESCRIPTION:Every child deserves to have the supplies they need for their education\, to feel confident in a room with their peers\, and be prepared for their school year. Having the proper school supplies plays a big part in student self-esteem and classroom participation. Back to School FDL supplies each student with the actual supplies that are on their classroom list\, giving them the right start to the school year. \n\n\n\nBack to School Distribution Day will be held at the Boys & Girls Club of Fond du Lac. Pick-up times will be determined at registration but if you have any questions\, email For questions please email registration@backtoschoolfdl.org.
URL:https://advocap-staging-byevakeyhgakaue5.westus3-01.azurewebsites.net/event/back-to-school-fdl/
LOCATION:Boys & Girls Club of Fond du Lac\, 76 W 2nd Street\, Fond du Lac\, WI\, 54935\, United States
ORGANIZER;CN="Back to School FDL":MAILTO:registration@backtoschoolfdl.org
END:VEVENT
BEGIN:VEVENT
DTSTART;TZID=America/Chicago:20240827T110000
DTEND;TZID=America/Chicago:20240827T120000
DTSTAMP:20260425T165723
CREATED:20240819T183420Z
LAST-MODIFIED:20240819T183422Z
UID:50854-1724756400-1724760000@advocap-staging-byevakeyhgakaue5.westus3-01.azurewebsites.net
SUMMARY:Car Seat & Fire Safety
DESCRIPTION:PARENT CAFE: Car Seat & Fire SafetyParents will have the opportunity to get advice from and network with other parents while their children enjoy the museum and engage in fun activities. \n\n\n\nThe is a free program for parents and caregivers. Museums play and childcare provided for kid 1+. Lunch is serviced for all participants\, including children and adults. \n\n\n\nIf you would like to participate\, please register at the link below or call 920-929-0707. Registration is required. \n\n\n\nRegister here: Childrens Museum of Fond Du Lac Inc.
URL:https://advocap-staging-byevakeyhgakaue5.westus3-01.azurewebsites.net/event/car-seat-and-fire-safety/
LOCATION:Children’s Museum of Fond du Lac\, 75 W Scott St\, Fond du Lac\, WI\, 54935\, United States
ORGANIZER;CN="Children's Museum of Fond du Lac":MAILTO:info@cmfdl.org
END:VEVENT
END:VCALENDAR