BEGIN:VCALENDAR
VERSION:2.0
PRODID:-//ADVOCAP - ECPv6.15.14//NONSGML v1.0//EN
CALSCALE:GREGORIAN
METHOD:PUBLISH
X-ORIGINAL-URL:https://advocap-staging-byevakeyhgakaue5.westus3-01.azurewebsites.net
X-WR-CALDESC:Events for ADVOCAP
REFRESH-INTERVAL;VALUE=DURATION:PT1H
X-Robots-Tag:noindex
X-PUBLISHED-TTL:PT1H
BEGIN:VTIMEZONE
TZID:America/Chicago
BEGIN:DAYLIGHT
TZOFFSETFROM:-0600
TZOFFSETTO:-0500
TZNAME:CDT
DTSTART:20230312T080000
END:DAYLIGHT
BEGIN:STANDARD
TZOFFSETFROM:-0500
TZOFFSETTO:-0600
TZNAME:CST
DTSTART:20231105T070000
END:STANDARD
BEGIN:DAYLIGHT
TZOFFSETFROM:-0600
TZOFFSETTO:-0500
TZNAME:CDT
DTSTART:20240310T080000
END:DAYLIGHT
BEGIN:STANDARD
TZOFFSETFROM:-0500
TZOFFSETTO:-0600
TZNAME:CST
DTSTART:20241103T070000
END:STANDARD
BEGIN:DAYLIGHT
TZOFFSETFROM:-0600
TZOFFSETTO:-0500
TZNAME:CDT
DTSTART:20250309T080000
END:DAYLIGHT
BEGIN:STANDARD
TZOFFSETFROM:-0500
TZOFFSETTO:-0600
TZNAME:CST
DTSTART:20251102T070000
END:STANDARD
END:VTIMEZONE
BEGIN:VEVENT
DTSTART;VALUE=DATE:20240403
DTEND;VALUE=DATE:20240404
DTSTAMP:20260425T204022
CREATED:20240402T203102Z
LAST-MODIFIED:20240402T203102Z
UID:50130-1712102400-1712188799@advocap-staging-byevakeyhgakaue5.westus3-01.azurewebsites.net
SUMMARY:ADVOCAP OFFICE CLOSURES
DESCRIPTION:Due to the snow forecasted for today and throughout tomorrow\, all ADVOCAP Offices will be closed to the public\, Wednesday\, April 3\, 2024. \nADVOCAP’s Winnebago County Nutrition Program will also be closed. No Home Delivered Meals and all meal sites will be closed. \nBe safe out there!
URL:https://advocap-staging-byevakeyhgakaue5.westus3-01.azurewebsites.net/event/advocap-office-closures-2/
LOCATION:WI
END:VEVENT
BEGIN:VEVENT
DTSTART;TZID=America/Chicago:20240418T170000
DTEND;TZID=America/Chicago:20240418T200000
DTSTAMP:20260425T204022
CREATED:20240510T161753Z
LAST-MODIFIED:20240510T161826Z
UID:50277-1713459600-1713470400@advocap-staging-byevakeyhgakaue5.westus3-01.azurewebsites.net
SUMMARY:ADVOCAP Committee Meetings
DESCRIPTION:ADVOCAP Committee Meetings will be held at the J.P. Coughlin Center.* \n5:00 PM – Finance & Personnel Committee \n6:00 PM – Advocacy & Operations Committee \n7:00 PM – Planning & Program Development \n*Meeting start times are subject to change based on agenda.
URL:https://advocap-staging-byevakeyhgakaue5.westus3-01.azurewebsites.net/event/advocap-committee-meetings-6/
LOCATION:J.P. Coughlin Center\, 625 E. County Road Y\, Suite 600\, Oshkosh\, WI\, 54901\, United States
END:VEVENT
BEGIN:VEVENT
DTSTART;TZID=America/Chicago:20240427T100000
DTEND;TZID=America/Chicago:20240427T150000
DTSTAMP:20260425T204022
CREATED:20240416T131231Z
LAST-MODIFIED:20240416T131231Z
UID:50166-1714212000-1714230000@advocap-staging-byevakeyhgakaue5.westus3-01.azurewebsites.net
SUMMARY:Earth Day Fair
DESCRIPTION:2024 Earth Day Fair Features Exhibitors\, Tours\, and Presentations \nFond du Lac\, WI – The Earth Day Fair returns to Founders Hall at the motherhouse of the Congregation of Sisters of St. Agnes (CSA) at 320 County Rd K in Fond du Lac. On April 27\, 2024\, from 10 a.m. to 3 p.m.\, the public is invited to interact with Earth-focused exhibitors and participate in tours\, presentations\, a raffle\, and other activities. \nFull event details are available at www.csasisters.org. \n 
URL:https://advocap-staging-byevakeyhgakaue5.westus3-01.azurewebsites.net/event/earth-day-fair/
LOCATION:Congregation of Sisters of St. Agnes (CSA)\, 320 County Road K\, Fond du Lac\, WI\, 54937\, United States
END:VEVENT
BEGIN:VEVENT
DTSTART;TZID=America/Chicago:20240427T130000
DTEND;TZID=America/Chicago:20240427T160000
DTSTAMP:20260425T204022
CREATED:20240415T185316Z
LAST-MODIFIED:20240501T210139Z
UID:50150-1714222800-1714233600@advocap-staging-byevakeyhgakaue5.westus3-01.azurewebsites.net
SUMMARY:ADVOCAP Head Start Family Movie Day
DESCRIPTION:Join us for a delightful Family Movie Day with ADVOCAP Head Start! Bring your loved ones for an afternoon of fun and entertainment. Enjoy a movie\, popcorn\, snacks\, and quality time together. Don’t miss this opportunity to create lasting memories with your little ones! \nCheck out event flyer here for more information.
URL:https://advocap-staging-byevakeyhgakaue5.westus3-01.azurewebsites.net/event/advocap-head-start-family-movie-day/
LOCATION:Horace Mann High School\, 325 McKinley Street\, North Fond du Lac\, WI\, 54937\, United States
END:VEVENT
END:VCALENDAR