BEGIN:VCALENDAR
VERSION:2.0
PRODID:-//ADVOCAP - ECPv6.15.14//NONSGML v1.0//EN
CALSCALE:GREGORIAN
METHOD:PUBLISH
X-WR-CALNAME:ADVOCAP
X-ORIGINAL-URL:https://advocap-staging-byevakeyhgakaue5.westus3-01.azurewebsites.net
X-WR-CALDESC:Events for ADVOCAP
REFRESH-INTERVAL;VALUE=DURATION:PT1H
X-Robots-Tag:noindex
X-PUBLISHED-TTL:PT1H
BEGIN:VTIMEZONE
TZID:America/Chicago
BEGIN:DAYLIGHT
TZOFFSETFROM:-0600
TZOFFSETTO:-0500
TZNAME:CDT
DTSTART:20220313T080000
END:DAYLIGHT
BEGIN:STANDARD
TZOFFSETFROM:-0500
TZOFFSETTO:-0600
TZNAME:CST
DTSTART:20221106T070000
END:STANDARD
BEGIN:DAYLIGHT
TZOFFSETFROM:-0600
TZOFFSETTO:-0500
TZNAME:CDT
DTSTART:20230312T080000
END:DAYLIGHT
BEGIN:STANDARD
TZOFFSETFROM:-0500
TZOFFSETTO:-0600
TZNAME:CST
DTSTART:20231105T070000
END:STANDARD
BEGIN:DAYLIGHT
TZOFFSETFROM:-0600
TZOFFSETTO:-0500
TZNAME:CDT
DTSTART:20240310T080000
END:DAYLIGHT
BEGIN:STANDARD
TZOFFSETFROM:-0500
TZOFFSETTO:-0600
TZNAME:CST
DTSTART:20241103T070000
END:STANDARD
END:VTIMEZONE
BEGIN:VEVENT
DTSTART;TZID=America/Chicago:20230412T110000
DTEND;TZID=America/Chicago:20230412T140000
DTSTAMP:20260424T040636
CREATED:20230322T161219Z
LAST-MODIFIED:20230322T163111Z
UID:48395-1681297200-1681308000@advocap-staging-byevakeyhgakaue5.westus3-01.azurewebsites.net
SUMMARY:Future Fair '23
DESCRIPTION:Moraine Park Technical College is hosting Future Fair ‘23 on Wednesday\, April 12th from 11 AM to 2 PM at the Fond du Lac campus in the new Conference Center. \nFuture Fair ‘23 is a great opportunity for our students\, alumni\, and community to meet with business and college representatives – stop in and say hi! \n 
URL:https://advocap-staging-byevakeyhgakaue5.westus3-01.azurewebsites.net/event/moraine-park-fond-du-lac-future-fair/
LOCATION:Moraine Park Technical College\, 235 N National Ave\, Fond du Lac\, WI\, 54935\, United States
END:VEVENT
BEGIN:VEVENT
DTSTART;TZID=America/Chicago:20230405T130000
DTEND;TZID=America/Chicago:20230405T160000
DTSTAMP:20260424T040636
CREATED:20230320T192716Z
LAST-MODIFIED:20230328T212646Z
UID:48361-1680699600-1680710400@advocap-staging-byevakeyhgakaue5.westus3-01.azurewebsites.net
SUMMARY:Fond du Lac Regional Job Fair 2023
DESCRIPTION:Come visit us at the Fond du Lac Job Fair on April 5th! \nThe job fair is hosting 80+ employers in our area\, come find out what jobs are available for you! \nWednesday\, April 5th\, 2023\n1:00 – 4:00 PM \nFDL County Fairgrounds Expo Center\n601 Martin Ave\nFond du Lac\, WI \nCall 920-404-6801 for more information.
URL:https://advocap-staging-byevakeyhgakaue5.westus3-01.azurewebsites.net/event/fond-du-lac-job-fair/
LOCATION:FDL County Fairgrounds Expo Center\, 520 Fond du Lac Avenue\, Fond du Lac\, WI\, 54935\, United States
END:VEVENT
BEGIN:VEVENT
DTSTART;TZID=America/Chicago:20230331T080000
DTEND;TZID=America/Chicago:20230331T140000
DTSTAMP:20260424T040636
CREATED:20230328T212358Z
LAST-MODIFIED:20230328T212602Z
UID:48420-1680249600-1680271200@advocap-staging-byevakeyhgakaue5.westus3-01.azurewebsites.net
SUMMARY:Spring All Staff Meeting 2023
DESCRIPTION:All ADVOCAP Offices will be closed for employees to attend the Spring All Staff Meeting in Green Lake. \nOffices will re-open again on Monday morning.
URL:https://advocap-staging-byevakeyhgakaue5.westus3-01.azurewebsites.net/event/advocap-employee-all-staff/
LOCATION:Green Lake Conference Center\, W2511 State Road 23\, Green Lake\, WI\, 54941\, United States
END:VEVENT
BEGIN:VEVENT
DTSTART;TZID=America/Chicago:20230328T133000
DTEND;TZID=America/Chicago:20230328T143000
DTSTAMP:20260424T040636
CREATED:20230126T164022Z
LAST-MODIFIED:20230320T131057Z
UID:47909-1680010200-1680013800@advocap-staging-byevakeyhgakaue5.westus3-01.azurewebsites.net
SUMMARY:Senior Nutrition Program Advisory Council
DESCRIPTION:Please note\, the meeting has been rescheduled to March 28th\, 2023. Meetings are conducted via conference call unless otherwise specified.
URL:https://advocap-staging-byevakeyhgakaue5.westus3-01.azurewebsites.net/event/advocap-senior-nutrition-program-advisory-council/
END:VEVENT
BEGIN:VEVENT
DTSTART;TZID=America/Chicago:20230321T153000
DTEND;TZID=America/Chicago:20230321T153000
DTSTAMP:20260424T040636
CREATED:20230228T195150Z
LAST-MODIFIED:20230228T195150Z
UID:48111-1679412600-1679412600@advocap-staging-byevakeyhgakaue5.westus3-01.azurewebsites.net
SUMMARY:Volunteer Appreciation Dinner
DESCRIPTION:Celebrating the RSVP Volunteers \nTuesday\, March 21\, 2023 \nLakeside Park Pavilion\n71 Promen Drive\nFond du Lac\, WI 54935 \nRegistration: 3:30 PM\nDinner Buffet: 4:00 – 4:45 PM\nEntertainment: 4:45 – 5:30 PM
URL:https://advocap-staging-byevakeyhgakaue5.westus3-01.azurewebsites.net/event/volunteer-appreciation-dinner/
LOCATION:Lakeside Park Pavilion\, 71 Promen Drive\, Fond du Lac\, WI\, 54935\, United States
ORGANIZER;CN="Ann Stiefvater":MAILTO:ann.stiefvater@advocap.org
END:VEVENT
BEGIN:VEVENT
DTSTART;TZID=America/Chicago:20230309T170000
DTEND;TZID=America/Chicago:20230309T200000
DTSTAMP:20260424T040636
CREATED:20230126T135532Z
LAST-MODIFIED:20230307T181315Z
UID:47906-1678381200-1678392000@advocap-staging-byevakeyhgakaue5.westus3-01.azurewebsites.net
SUMMARY:ADVOCAP Committee Meetings
DESCRIPTION:ADVOCAP Committee Meetings will be held at the ADVOCAP Fond du Lac Office. \n5:00 PM  – Finance & Personnel Agenda \n6:00 PM – Advocacy & Operations Agenda \n7:00 PM – Planning & Program Development Agenda \n  \n 
URL:https://advocap-staging-byevakeyhgakaue5.westus3-01.azurewebsites.net/event/advocap-board-of-directors-meeting-2/
LOCATION:ADVOCAP Fond du Lac Office\, 19 W 1st Street\, Fond du Lac\, WI\, 54935\, United States
END:VEVENT
BEGIN:VEVENT
DTSTART;TZID=America/Chicago:20230308T170000
DTEND;TZID=America/Chicago:20230308T180000
DTSTAMP:20260424T040636
CREATED:20230126T171909Z
LAST-MODIFIED:20230126T171909Z
UID:47919-1678294800-1678298400@advocap-staging-byevakeyhgakaue5.westus3-01.azurewebsites.net
SUMMARY:Head Start Policy Council
DESCRIPTION:The agenda will be posted when available.
URL:https://advocap-staging-byevakeyhgakaue5.westus3-01.azurewebsites.net/event/head-start-policy-council/
LOCATION:ADVOCAP Fond du Lac Office\, 19 W 1st Street\, Fond du Lac\, WI\, 54935\, United States
END:VEVENT
BEGIN:VEVENT
DTSTART;TZID=America/Chicago:20230307T153000
DTEND;TZID=America/Chicago:20230307T173000
DTSTAMP:20260424T040636
CREATED:20230228T195318Z
LAST-MODIFIED:20230228T195318Z
UID:48114-1678203000-1678210200@advocap-staging-byevakeyhgakaue5.westus3-01.azurewebsites.net
SUMMARY:Volunteer Appreciation Dinner
DESCRIPTION:Celebrating the RSVP Volunteers \nTuesday\, March 7\, 2023 \nThe NEW Ripon Senior Activity Center\n388 Murray Park Drive\nRipon\, WI 54971 \nRegistration: 3:30 PM\nDinner Buffet: 4:00 – 4:45 PM\nEntertainment: 4:45 – 5:30 PM
URL:https://advocap-staging-byevakeyhgakaue5.westus3-01.azurewebsites.net/event/volunteer-appreciation-dinner-2/
LOCATION:Ripon Senior Activity Center\, 388 Murray Park Drive\, Ripon\, WI\, 54971\, United States
ORGANIZER;CN="Ann Stiefvater":MAILTO:ann.stiefvater@advocap.org
END:VEVENT
BEGIN:VEVENT
DTSTART;TZID=America/Chicago:20230302T170000
DTEND;TZID=America/Chicago:20230302T183000
DTSTAMP:20260424T040636
CREATED:20230130T162551Z
LAST-MODIFIED:20230223T135651Z
UID:47968-1677776400-1677781800@advocap-staging-byevakeyhgakaue5.westus3-01.azurewebsites.net
SUMMARY:RESCHEDULED: Head Start Cook With Your Kid Class
DESCRIPTION:Due to winter weather conditions the “Cook With Your Kid” Class originally scheduled for February 23rd has been rescheduled to Thursday\, March 2nd. \nADVOCAP’s Head Start Program\, in partnership with Food Wise\, will be offering a “Cook With Your Kid” Class at the the Prairie View Head Start Center in Markesan. The class is Free for Head Start Children and their Caregivers. Call 920-929-3170 to register for the class. Childcare will be provided for siblings. \nCook With Your Kid Flyer – English \nFolleto Cocina con tu hijo – Español
URL:https://advocap-staging-byevakeyhgakaue5.westus3-01.azurewebsites.net/event/head-start-cook-with-your-kid-class-2/
LOCATION:Head Start Prairie View Center\, W911 Hwy 44\, Markesan\, WI\, 53946\, United States
END:VEVENT
BEGIN:VEVENT
DTSTART;VALUE=DATE:20230223
DTEND;VALUE=DATE:20230225
DTSTAMP:20260424T040636
CREATED:20230222T141526Z
LAST-MODIFIED:20230223T122540Z
UID:48054-1677110400-1677283199@advocap-staging-byevakeyhgakaue5.westus3-01.azurewebsites.net
SUMMARY:HOME DELIVERED MEALS & MEAL SITES CANCELLED
DESCRIPTION:Due to inclement weather and for the safety of our drivers\, managers\, and participants\, ADVOCAP’s Winnebago County meal services are canceled Wednesday\, 2/22/23\, and Thursday\, 2/23/23. All meal sites are closed and there will be no Home Delivered meals. \nPlease contact the Neenah Office with any questions at 920-725-2791.
URL:https://advocap-staging-byevakeyhgakaue5.westus3-01.azurewebsites.net/event/home-delivered-meals-meal-sites-cancelled/
END:VEVENT
BEGIN:VEVENT
DTSTART;VALUE=DATE:20230223
DTEND;VALUE=DATE:20230224
DTSTAMP:20260424T040636
CREATED:20230222T155527Z
LAST-MODIFIED:20230223T122726Z
UID:48057-1677110400-1677196799@advocap-staging-byevakeyhgakaue5.westus3-01.azurewebsites.net
SUMMARY:ADVOCAP OFFICE CLOSURES
DESCRIPTION:Due to weather conditions\, all ADVOCAP Offices will be closed Wednesday\, 2/22\, and Thursday\, 2/23. We’re sorry for any inconvenience this causes. \nBe safe out there!
URL:https://advocap-staging-byevakeyhgakaue5.westus3-01.azurewebsites.net/event/advocap-office-closures/
END:VEVENT
BEGIN:VEVENT
DTSTART;TZID=America/Chicago:20230216T170000
DTEND;TZID=America/Chicago:20230216T183000
DTSTAMP:20260424T040636
CREATED:20230130T161246Z
LAST-MODIFIED:20230130T162644Z
UID:47961-1676566800-1676572200@advocap-staging-byevakeyhgakaue5.westus3-01.azurewebsites.net
SUMMARY:Head Start Cook With Your Kid Class
DESCRIPTION:ADVOCAP’s Head Start Program\, in partnership with Food Wise\, will be offering a “Cook With Your Kid” Class on February 16th at the ADVOCAP Fond du Lac Office. The class is free for Head Start Children and their Caregivers. Call 920-929-3170 to register for the class. Childcare will be provided for siblings. \nHead Start Cook With Your Kid – English \nHead Start Cook With Your Kid – Spanish
URL:https://advocap-staging-byevakeyhgakaue5.westus3-01.azurewebsites.net/event/head-start-cook-with-your-kid-class/
LOCATION:ADVOCAP Fond du Lac Office\, 19 W 1st Street\, Fond du Lac\, WI\, 54935\, United States
END:VEVENT
BEGIN:VEVENT
DTSTART;TZID=America/Chicago:20230209T180000
DTEND;TZID=America/Chicago:20230209T190000
DTSTAMP:20260424T040636
CREATED:20230126T135204Z
LAST-MODIFIED:20230126T135204Z
UID:47903-1675965600-1675969200@advocap-staging-byevakeyhgakaue5.westus3-01.azurewebsites.net
SUMMARY:Board of Directors Meeting
DESCRIPTION:The meeting agenda will be posted when available.
URL:https://advocap-staging-byevakeyhgakaue5.westus3-01.azurewebsites.net/event/advocap-board-of-directors-meeting/
LOCATION:J.P. Coughlin Center\, 625 E. County Road Y\, Suite 600\, Oshkosh\, WI\, 54901\, United States
END:VEVENT
BEGIN:VEVENT
DTSTART;TZID=America/Chicago:20230208T170000
DTEND;TZID=America/Chicago:20230208T180000
DTSTAMP:20260424T040636
CREATED:20230126T171746Z
LAST-MODIFIED:20230126T171746Z
UID:47917-1675875600-1675879200@advocap-staging-byevakeyhgakaue5.westus3-01.azurewebsites.net
SUMMARY:Head Start Policy Council
DESCRIPTION:The agenda will be posted when available.
URL:https://advocap-staging-byevakeyhgakaue5.westus3-01.azurewebsites.net/event/advocap-head-start-policy-council-meeting/
LOCATION:ADVOCAP Fond du Lac Office\, 19 W 1st Street\, Fond du Lac\, WI\, 54935\, United States
END:VEVENT
BEGIN:VEVENT
DTSTART;VALUE=DATE:20230119
DTEND;VALUE=DATE:20230120
DTSTAMP:20260424T040636
CREATED:20230119T121345Z
LAST-MODIFIED:20230119T121345Z
UID:47760-1674086400-1674172799@advocap-staging-byevakeyhgakaue5.westus3-01.azurewebsites.net
SUMMARY:HOME DELIVERED MEALS & MEAL SITES CANCELLED
DESCRIPTION:Due to weather conditions\, ADVOCAP’s Winnebago County Home Delivered Meals and Meal Sites are closed today. Please contact the Neenah Office with any questions at 920-725-2791.
URL:https://advocap-staging-byevakeyhgakaue5.westus3-01.azurewebsites.net/event/weather-cancellations/
END:VEVENT
BEGIN:VEVENT
DTSTART;VALUE=DATE:20230116
DTEND;VALUE=DATE:20230117
DTSTAMP:20260424T040636
CREATED:20221228T225318Z
LAST-MODIFIED:20221228T225318Z
UID:47262-1673827200-1673913599@advocap-staging-byevakeyhgakaue5.westus3-01.azurewebsites.net
SUMMARY:Office Closure
DESCRIPTION:In observance of Martin Luther King Jr. Day all ADVOCAP offices will be closed Monday\, January 16th\, 2023
URL:https://advocap-staging-byevakeyhgakaue5.westus3-01.azurewebsites.net/event/office-closure-2/
END:VEVENT
BEGIN:VEVENT
DTSTART;TZID=America/Chicago:20230112T190000
DTEND;TZID=America/Chicago:20230112T200000
DTSTAMP:20260424T040636
CREATED:20221227T180924Z
LAST-MODIFIED:20230105T230604Z
UID:47045-1673550000-1673553600@advocap-staging-byevakeyhgakaue5.westus3-01.azurewebsites.net
SUMMARY:CANCELLED: Planning & Program Development Committee
DESCRIPTION:The January Planning & Program Development Committee Meeting has been cancelled.
URL:https://advocap-staging-byevakeyhgakaue5.westus3-01.azurewebsites.net/event/planning-program-development/
LOCATION:ADVOCAP Fond du Lac Office\, 19 W 1st Street\, Fond du Lac\, WI\, 54935\, United States
END:VEVENT
BEGIN:VEVENT
DTSTART;TZID=America/Chicago:20230112T190000
DTEND;TZID=America/Chicago:20230112T200000
DTSTAMP:20260424T040636
CREATED:20221227T180230Z
LAST-MODIFIED:20230111T125943Z
UID:47028-1673550000-1673553600@advocap-staging-byevakeyhgakaue5.westus3-01.azurewebsites.net
SUMMARY:CANCELLED: Advocacy & Operations Committee
DESCRIPTION:The January Advocacy & Operations Committee Meeting has been cancelled.
URL:https://advocap-staging-byevakeyhgakaue5.westus3-01.azurewebsites.net/event/advocacy-operations-meeting/
LOCATION:ADVOCAP Fond du Lac Office\, 19 W 1st Street\, Fond du Lac\, WI\, 54935\, United States
END:VEVENT
BEGIN:VEVENT
DTSTART;TZID=America/Chicago:20230112T170000
DTEND;TZID=America/Chicago:20230112T190000
DTSTAMP:20260424T040636
CREATED:20221227T180640Z
LAST-MODIFIED:20230105T231137Z
UID:47041-1673542800-1673550000@advocap-staging-byevakeyhgakaue5.westus3-01.azurewebsites.net
SUMMARY:Finance & Personnel Committee
DESCRIPTION:FINANCE & PERSONNEL COMMITTEE \nAGENDA ITEMS \n\nCall to Order: Chair Jay Myrechuck\nRoll Call\nReview & Approval of Agenda\nReview & Approval of Meeting Minutes from November 10\, 2022\nReview & Approval of Heartland Business Systems Contract for 2023 Computer Services\nReview and Approval of Annual Risk Assessment\nReview and Approval of November 2022 Financial Reports\nReview and Approval of Employee Guidebook\nHuman Resources Narrative\nOther Business/Announcements\n\nBoard meeting\, February 9th in Oshkosh\nCommittee meetings\, March 9th in Fond du Lac\n\n\nAdjournment
URL:https://advocap-staging-byevakeyhgakaue5.westus3-01.azurewebsites.net/event/finance-personnel-committee-2/
LOCATION:ADVOCAP Fond du Lac Office\, 19 W 1st Street\, Fond du Lac\, WI\, 54935\, United States
END:VEVENT
BEGIN:VEVENT
DTSTART;VALUE=DATE:20230102
DTEND;VALUE=DATE:20230103
DTSTAMP:20260424T040636
CREATED:20221228T224116Z
LAST-MODIFIED:20221228T224116Z
UID:47260-1672617600-1672703999@advocap-staging-byevakeyhgakaue5.westus3-01.azurewebsites.net
SUMMARY:Office Closure
DESCRIPTION:In celebration of New Year’s Day\, all ADVOCAP Offices will be closed on Monday\, January 2nd\, 2023.
URL:https://advocap-staging-byevakeyhgakaue5.westus3-01.azurewebsites.net/event/office-closure/
END:VEVENT
END:VCALENDAR