BEGIN:VCALENDAR
VERSION:2.0
PRODID:-//ADVOCAP - ECPv6.15.14//NONSGML v1.0//EN
CALSCALE:GREGORIAN
METHOD:PUBLISH
X-WR-CALNAME:ADVOCAP
X-ORIGINAL-URL:https://advocap-staging-byevakeyhgakaue5.westus3-01.azurewebsites.net
X-WR-CALDESC:Events for ADVOCAP
REFRESH-INTERVAL;VALUE=DURATION:PT1H
X-Robots-Tag:noindex
X-PUBLISHED-TTL:PT1H
BEGIN:VTIMEZONE
TZID:America/Chicago
BEGIN:DAYLIGHT
TZOFFSETFROM:-0600
TZOFFSETTO:-0500
TZNAME:CDT
DTSTART:20250309T080000
END:DAYLIGHT
BEGIN:STANDARD
TZOFFSETFROM:-0500
TZOFFSETTO:-0600
TZNAME:CST
DTSTART:20251102T070000
END:STANDARD
BEGIN:DAYLIGHT
TZOFFSETFROM:-0600
TZOFFSETTO:-0500
TZNAME:CDT
DTSTART:20260308T080000
END:DAYLIGHT
BEGIN:STANDARD
TZOFFSETFROM:-0500
TZOFFSETTO:-0600
TZNAME:CST
DTSTART:20261101T070000
END:STANDARD
BEGIN:DAYLIGHT
TZOFFSETFROM:-0600
TZOFFSETTO:-0500
TZNAME:CDT
DTSTART:20270314T080000
END:DAYLIGHT
BEGIN:STANDARD
TZOFFSETFROM:-0500
TZOFFSETTO:-0600
TZNAME:CST
DTSTART:20271107T070000
END:STANDARD
END:VTIMEZONE
BEGIN:VEVENT
DTSTART;TZID=America/Chicago:20260129T090000
DTEND;TZID=America/Chicago:20260129T120000
DTSTAMP:20260425T102216
CREATED:20260106T170018Z
LAST-MODIFIED:20260106T170500Z
UID:54916-1769677200-1769688000@advocap-staging-byevakeyhgakaue5.westus3-01.azurewebsites.net
SUMMARY:ADVOCAP Resource Fair
DESCRIPTION:ADVOCAP is hosting a free Resource Fair for individuals\, youth\, and families in Fond du Lac County who are experiencing financial challenges and/or homelessness. This event brings together local organizations in one place to help connect community members with services and support\, including:– Housing services– Financial support and counseling– Healthcare access– Employment and training– Mental health resources– Coordinated entry– Food and nutrition assistance– And more! \n\n\n\nOrganizations on site:– ADVOCAP– Fox Valley Job Center– New Beginnings Pregnancy Care Center– Aging and Disability Resource Center– Fond du Lac County Health Department– We EmpowHER– Forward Service Corporation– Consumer Credit Counseling Service– Goodwill Financial Wellness Services– Rent Smart\, UW Extension– SSM Health– Berry House– NAMI \n\n\n\nJoin us to make connections with local resource providers. Free hygiene kits\, snacks\, and door prizes will be available.
URL:https://advocap-staging-byevakeyhgakaue5.westus3-01.azurewebsites.net/event/advocap-resource-fair/
LOCATION:ADVOCAP Fond du Lac Office\, 19 W 1st Street\, Fond du Lac\, WI\, 54935\, United States
END:VEVENT
BEGIN:VEVENT
DTSTART;TZID=America/Chicago:20260226T170000
DTEND;TZID=America/Chicago:20260226T200000
DTSTAMP:20260425T102216
CREATED:20260106T173330Z
LAST-MODIFIED:20260106T173333Z
UID:54946-1772125200-1772136000@advocap-staging-byevakeyhgakaue5.westus3-01.azurewebsites.net
SUMMARY:ADVOCAP Committee Meetings
DESCRIPTION:Finance & Personnel: 5:00 PMAdvocacy & Operations: 6:00 PMPlanning & Program Development: 7:00 PM
URL:https://advocap-staging-byevakeyhgakaue5.westus3-01.azurewebsites.net/event/advocap-committee-meetings-feb-2026/
LOCATION:JP Coughlin Center\, 625 E County Road Y\, Oshkosh\, Wisconsin\, 54901\, United States
CATEGORIES:ADVOCAP Meeting
END:VEVENT
BEGIN:VEVENT
DTSTART;TZID=America/Chicago:20260319T170000
DTEND;TZID=America/Chicago:20260319T200000
DTSTAMP:20260425T102216
CREATED:20260106T171834Z
LAST-MODIFIED:20260106T171934Z
UID:54927-1773939600-1773950400@advocap-staging-byevakeyhgakaue5.westus3-01.azurewebsites.net
SUMMARY:ADVOCAP Executive Committee & Board Meeting
DESCRIPTION:Executive Committee: time variesBoard of Directors: 6:00 PM
URL:https://advocap-staging-byevakeyhgakaue5.westus3-01.azurewebsites.net/event/advocap-executive-committee-board-meeting-mar-2026/
LOCATION:ADVOCAP Fond du Lac Office\, 19 W 1st Street\, Fond du Lac\, WI\, 54935\, United States
CATEGORIES:ADVOCAP Meeting
END:VEVENT
BEGIN:VEVENT
DTSTART;TZID=America/Chicago:20260423T170000
DTEND;TZID=America/Chicago:20260423T200000
DTSTAMP:20260425T102216
CREATED:20260106T173515Z
LAST-MODIFIED:20260106T173518Z
UID:54948-1776963600-1776974400@advocap-staging-byevakeyhgakaue5.westus3-01.azurewebsites.net
SUMMARY:ADVOCAP Committee Meetings
DESCRIPTION:Finance & Personnel: 5:00 PMAdvocacy & Operations: 6:00 PMPlanning & Program Development: 7:00 PM
URL:https://advocap-staging-byevakeyhgakaue5.westus3-01.azurewebsites.net/event/advocap-committee-meetings-apr-2026/
LOCATION:ADVOCAP Neenah Office\, 181 E North Water Street\, Suite 210\, Neenah\, Wisconsin\, 54956\, United States
CATEGORIES:ADVOCAP Meeting
END:VEVENT
BEGIN:VEVENT
DTSTART;TZID=America/Chicago:20260528T170000
DTEND;TZID=America/Chicago:20260528T200000
DTSTAMP:20260425T102216
CREATED:20260106T172157Z
LAST-MODIFIED:20260106T172324Z
UID:54932-1779987600-1779998400@advocap-staging-byevakeyhgakaue5.westus3-01.azurewebsites.net
SUMMARY:ADVOCAP Executive Committee & Board Meeting
DESCRIPTION:Executive Committee: time variesBoard of Directors: 6:00 PM
URL:https://advocap-staging-byevakeyhgakaue5.westus3-01.azurewebsites.net/event/advocap-executive-committee-board-meeting-may-2026/
LOCATION:JP Coughlin Center\, 625 E County Road Y\, Oshkosh\, Wisconsin\, 54901\, United States
CATEGORIES:ADVOCAP Meeting
END:VEVENT
BEGIN:VEVENT
DTSTART;TZID=America/Chicago:20260625T170000
DTEND;TZID=America/Chicago:20260625T200000
DTSTAMP:20260425T102216
CREATED:20260106T173715Z
LAST-MODIFIED:20260106T173719Z
UID:54950-1782406800-1782417600@advocap-staging-byevakeyhgakaue5.westus3-01.azurewebsites.net
SUMMARY:ADVOCAP Committee Meetings
DESCRIPTION:Finance & Personnel: 5:00 PMAdvocacy & Operations: 6:00 PMPlanning & Program Development: 7:00 PM
URL:https://advocap-staging-byevakeyhgakaue5.westus3-01.azurewebsites.net/event/advocap-committee-meetings-jun-2026/
LOCATION:ADVOCAP Fond du Lac Office\, 19 W 1st Street\, Fond du Lac\, WI\, 54935\, United States
CATEGORIES:ADVOCAP Meeting
END:VEVENT
BEGIN:VEVENT
DTSTART;TZID=America/Chicago:20260723T170000
DTEND;TZID=America/Chicago:20260723T200000
DTSTAMP:20260425T102216
CREATED:20260106T172510Z
LAST-MODIFIED:20260106T172512Z
UID:54939-1784826000-1784836800@advocap-staging-byevakeyhgakaue5.westus3-01.azurewebsites.net
SUMMARY:ADVOCAP Executive Committee & Board Meeting
DESCRIPTION:Executive Committee: time variesBoard of Directors: 6:00 PM
URL:https://advocap-staging-byevakeyhgakaue5.westus3-01.azurewebsites.net/event/advocap-executive-committee-board-meeting-jul-2026/
LOCATION:Head Start Prairie View Center\, W911 Hwy 44\, Markesan\, WI\, 53946\, United States
CATEGORIES:ADVOCAP Meeting
END:VEVENT
BEGIN:VEVENT
DTSTART;TZID=America/Chicago:20260827T170000
DTEND;TZID=America/Chicago:20260827T200000
DTSTAMP:20260425T102216
CREATED:20260106T173838Z
LAST-MODIFIED:20260106T173840Z
UID:54952-1787850000-1787860800@advocap-staging-byevakeyhgakaue5.westus3-01.azurewebsites.net
SUMMARY:ADVOCAP Committee Meetings
DESCRIPTION:Finance & Personnel: 5:00 PMAdvocacy & Operations: 6:00 PMPlanning & Program Development: 7:00 PM
URL:https://advocap-staging-byevakeyhgakaue5.westus3-01.azurewebsites.net/event/advocap-committee-meetings-aug-2026/
LOCATION:JP Coughlin Center\, 625 E County Road Y\, Oshkosh\, Wisconsin\, 54901\, United States
CATEGORIES:ADVOCAP Meeting
END:VEVENT
BEGIN:VEVENT
DTSTART;TZID=America/Chicago:20260924T170000
DTEND;TZID=America/Chicago:20260924T200000
DTSTAMP:20260425T102216
CREATED:20260106T172641Z
LAST-MODIFIED:20260106T172735Z
UID:54941-1790269200-1790280000@advocap-staging-byevakeyhgakaue5.westus3-01.azurewebsites.net
SUMMARY:ADVOCAP Executive Committee & Board Meeting
DESCRIPTION:Executive Committee: time variesBoard of Directors: 6:00 PM
URL:https://advocap-staging-byevakeyhgakaue5.westus3-01.azurewebsites.net/event/advocap-executive-committee-board-meeting-sept-2026/
LOCATION:ADVOCAP Fond du Lac Office\, 19 W 1st Street\, Fond du Lac\, WI\, 54935\, United States
CATEGORIES:ADVOCAP Meeting
END:VEVENT
BEGIN:VEVENT
DTSTART;TZID=America/Chicago:20261022T170000
DTEND;TZID=America/Chicago:20261022T200000
DTSTAMP:20260425T102216
CREATED:20260106T173947Z
LAST-MODIFIED:20260106T173949Z
UID:54954-1792688400-1792699200@advocap-staging-byevakeyhgakaue5.westus3-01.azurewebsites.net
SUMMARY:ADVOCAP Committee Meetings
DESCRIPTION:Finance & Personnel: 5:00 PMAdvocacy & Operations: 6:00 PMPlanning & Program Development: 7:00 PM
URL:https://advocap-staging-byevakeyhgakaue5.westus3-01.azurewebsites.net/event/advocap-committee-meetings-oct-2026/
LOCATION:ADVOCAP Berlin Office\, 237 Broadway\, Berlin\, Wisconsin\, 54923\, United States
CATEGORIES:ADVOCAP Meeting
END:VEVENT
BEGIN:VEVENT
DTSTART;TZID=America/Chicago:20261119T170000
DTEND;TZID=America/Chicago:20261119T200000
DTSTAMP:20260425T102216
CREATED:20260106T172808Z
LAST-MODIFIED:20260106T172810Z
UID:54943-1795107600-1795118400@advocap-staging-byevakeyhgakaue5.westus3-01.azurewebsites.net
SUMMARY:ADVOCAP Executive Committee & Board Meeting
DESCRIPTION:Executive Committee: time variesBoard of Directors: 6:00 PM
URL:https://advocap-staging-byevakeyhgakaue5.westus3-01.azurewebsites.net/event/advocap-executive-committee-board-meeting-nov-2026/
LOCATION:JP Coughlin Center\, 625 E County Road Y\, Oshkosh\, Wisconsin\, 54901\, United States
CATEGORIES:ADVOCAP Meeting
END:VEVENT
BEGIN:VEVENT
DTSTART;TZID=America/Chicago:20261217T170000
DTEND;TZID=America/Chicago:20261217T200000
DTSTAMP:20260425T102216
CREATED:20260106T174107Z
LAST-MODIFIED:20260106T174110Z
UID:54956-1797526800-1797537600@advocap-staging-byevakeyhgakaue5.westus3-01.azurewebsites.net
SUMMARY:ADVOCAP Committee Meetings
DESCRIPTION:Finance & Personnel: 5:00 PMAdvocacy & Operations: 6:00 PMPlanning & Program Development: 7:00 PM
URL:https://advocap-staging-byevakeyhgakaue5.westus3-01.azurewebsites.net/event/advocap-committee-meetings-dec-2026/
LOCATION:ADVOCAP Fond du Lac Office\, 19 W 1st Street\, Fond du Lac\, WI\, 54935\, United States
CATEGORIES:ADVOCAP Meeting
END:VEVENT
END:VCALENDAR