BEGIN:VCALENDAR
VERSION:2.0
PRODID:-//ADVOCAP - ECPv6.15.14//NONSGML v1.0//EN
CALSCALE:GREGORIAN
METHOD:PUBLISH
X-WR-CALNAME:ADVOCAP
X-ORIGINAL-URL:https://advocap-staging-byevakeyhgakaue5.westus3-01.azurewebsites.net
X-WR-CALDESC:Events for ADVOCAP
REFRESH-INTERVAL;VALUE=DURATION:PT1H
X-Robots-Tag:noindex
X-PUBLISHED-TTL:PT1H
BEGIN:VTIMEZONE
TZID:America/Chicago
BEGIN:DAYLIGHT
TZOFFSETFROM:-0600
TZOFFSETTO:-0500
TZNAME:CDT
DTSTART:20230312T080000
END:DAYLIGHT
BEGIN:STANDARD
TZOFFSETFROM:-0500
TZOFFSETTO:-0600
TZNAME:CST
DTSTART:20231105T070000
END:STANDARD
BEGIN:DAYLIGHT
TZOFFSETFROM:-0600
TZOFFSETTO:-0500
TZNAME:CDT
DTSTART:20240310T080000
END:DAYLIGHT
BEGIN:STANDARD
TZOFFSETFROM:-0500
TZOFFSETTO:-0600
TZNAME:CST
DTSTART:20241103T070000
END:STANDARD
BEGIN:DAYLIGHT
TZOFFSETFROM:-0600
TZOFFSETTO:-0500
TZNAME:CDT
DTSTART:20250309T080000
END:DAYLIGHT
BEGIN:STANDARD
TZOFFSETFROM:-0500
TZOFFSETTO:-0600
TZNAME:CST
DTSTART:20251102T070000
END:STANDARD
BEGIN:DAYLIGHT
TZOFFSETFROM:-0600
TZOFFSETTO:-0500
TZNAME:CDT
DTSTART:20260308T080000
END:DAYLIGHT
BEGIN:STANDARD
TZOFFSETFROM:-0500
TZOFFSETTO:-0600
TZNAME:CST
DTSTART:20261101T070000
END:STANDARD
BEGIN:DAYLIGHT
TZOFFSETFROM:-0600
TZOFFSETTO:-0500
TZNAME:CDT
DTSTART:20270314T080000
END:DAYLIGHT
BEGIN:STANDARD
TZOFFSETFROM:-0500
TZOFFSETTO:-0600
TZNAME:CST
DTSTART:20271107T070000
END:STANDARD
END:VTIMEZONE
BEGIN:VEVENT
DTSTART;TZID=America/Chicago:20260319T170000
DTEND;TZID=America/Chicago:20260319T200000
DTSTAMP:20260423T174008
CREATED:20260106T171834Z
LAST-MODIFIED:20260106T171934Z
UID:54927-1773939600-1773950400@advocap-staging-byevakeyhgakaue5.westus3-01.azurewebsites.net
SUMMARY:ADVOCAP Executive Committee & Board Meeting
DESCRIPTION:Executive Committee: time variesBoard of Directors: 6:00 PM
URL:https://advocap-staging-byevakeyhgakaue5.westus3-01.azurewebsites.net/event/advocap-executive-committee-board-meeting-mar-2026/
LOCATION:ADVOCAP Fond du Lac Office\, 19 W 1st Street\, Fond du Lac\, WI\, 54935\, United States
CATEGORIES:ADVOCAP Meeting
END:VEVENT
BEGIN:VEVENT
DTSTART;TZID=America/Chicago:20260226T170000
DTEND;TZID=America/Chicago:20260226T200000
DTSTAMP:20260423T174008
CREATED:20260106T173330Z
LAST-MODIFIED:20260106T173333Z
UID:54946-1772125200-1772136000@advocap-staging-byevakeyhgakaue5.westus3-01.azurewebsites.net
SUMMARY:ADVOCAP Committee Meetings
DESCRIPTION:Finance & Personnel: 5:00 PMAdvocacy & Operations: 6:00 PMPlanning & Program Development: 7:00 PM
URL:https://advocap-staging-byevakeyhgakaue5.westus3-01.azurewebsites.net/event/advocap-committee-meetings-feb-2026/
LOCATION:JP Coughlin Center\, 625 E County Road Y\, Oshkosh\, Wisconsin\, 54901\, United States
CATEGORIES:ADVOCAP Meeting
END:VEVENT
BEGIN:VEVENT
DTSTART;TZID=America/Chicago:20260122T170000
DTEND;TZID=America/Chicago:20260122T200000
DTSTAMP:20260423T174008
CREATED:20260106T171734Z
LAST-MODIFIED:20260106T171737Z
UID:54928-1769101200-1769112000@advocap-staging-byevakeyhgakaue5.westus3-01.azurewebsites.net
SUMMARY:ADVOCAP Executive Committee & Board Meeting
DESCRIPTION:Executive Committee: time variesBoard of Directors: 6:00 PM
URL:https://advocap-staging-byevakeyhgakaue5.westus3-01.azurewebsites.net/event/advocap-executive-committee-board-meeting-jan-2026/
LOCATION:ADVOCAP Fond du Lac Office\, 19 W 1st Street\, Fond du Lac\, WI\, 54935\, United States
CATEGORIES:ADVOCAP Meeting
END:VEVENT
BEGIN:VEVENT
DTSTART;TZID=America/Chicago:20251218T170000
DTEND;TZID=America/Chicago:20251218T200000
DTSTAMP:20260423T174008
CREATED:20250904T203850Z
LAST-MODIFIED:20250904T204937Z
UID:53662-1766077200-1766088000@advocap-staging-byevakeyhgakaue5.westus3-01.azurewebsites.net
SUMMARY:ADVOCAP Committee Meetings
DESCRIPTION:Finance & Personnel: 5:00 PMAdvocacy & Operations: 6:00 PMPlanning & Program Development: 7:00 PM
URL:https://advocap-staging-byevakeyhgakaue5.westus3-01.azurewebsites.net/event/advocap-committee-meetings-15/
LOCATION:JP Coughlin Center\, 625 E County Road Y\, Oshkosh\, Wisconsin\, 54901\, United States
CATEGORIES:ADVOCAP Meeting
END:VEVENT
BEGIN:VEVENT
DTSTART;TZID=America/Chicago:20251120T170000
DTEND;TZID=America/Chicago:20251120T200000
DTSTAMP:20260423T174008
CREATED:20250904T204755Z
LAST-MODIFIED:20250904T205214Z
UID:53678-1763658000-1763668800@advocap-staging-byevakeyhgakaue5.westus3-01.azurewebsites.net
SUMMARY:ADVOCAP Executive Committee & Board Meeting
DESCRIPTION:Executive Committee: time variesBoard of Directors: 6:00 PM
URL:https://advocap-staging-byevakeyhgakaue5.westus3-01.azurewebsites.net/event/advocap-executive-committee-board-meeting/
LOCATION:ADVOCAP Fond du Lac Office\, 19 W 1st Street\, Fond du Lac\, WI\, 54935\, United States
CATEGORIES:ADVOCAP Meeting
END:VEVENT
BEGIN:VEVENT
DTSTART;TZID=America/Chicago:20250925T170000
DTEND;TZID=America/Chicago:20250925T200000
DTSTAMP:20260423T174008
CREATED:20250904T204646Z
LAST-MODIFIED:20250904T205201Z
UID:53676-1758819600-1758830400@advocap-staging-byevakeyhgakaue5.westus3-01.azurewebsites.net
SUMMARY:ADVOCAP Executive Committee & Board Meeting
DESCRIPTION:Executive Committee: time variesBoard of Directors: 6:00 PM
URL:https://advocap-staging-byevakeyhgakaue5.westus3-01.azurewebsites.net/event/advocap-executive-committee-board-meetings-5/
LOCATION:JP Coughlin Center\, 625 E County Road Y\, Oshkosh\, Wisconsin\, 54901\, United States
CATEGORIES:ADVOCAP Meeting
END:VEVENT
BEGIN:VEVENT
DTSTART;TZID=America/Chicago:20250828T170000
DTEND;TZID=America/Chicago:20250828T200000
DTSTAMP:20260423T174008
CREATED:20250904T203404Z
LAST-MODIFIED:20250904T205011Z
UID:53656-1756400400-1756411200@advocap-staging-byevakeyhgakaue5.westus3-01.azurewebsites.net
SUMMARY:ADVOCAP Committee Meetings
DESCRIPTION:Finance & Personnel: 5:00 PMAdvocacy & Operations: 6:00 PMPlanning & Program Development: 7:00 PM
URL:https://advocap-staging-byevakeyhgakaue5.westus3-01.azurewebsites.net/event/advocap-committee-meetings-13/
LOCATION:ADVOCAP Fond du Lac Office\, 19 W 1st Street\, Fond du Lac\, WI\, 54935\, United States
CATEGORIES:ADVOCAP Meeting
END:VEVENT
BEGIN:VEVENT
DTSTART;TZID=America/Chicago:20250724T170000
DTEND;TZID=America/Chicago:20250724T200000
DTSTAMP:20260423T174008
CREATED:20250904T204554Z
LAST-MODIFIED:20250904T205152Z
UID:53674-1753376400-1753387200@advocap-staging-byevakeyhgakaue5.westus3-01.azurewebsites.net
SUMMARY:ADVOCAP Executive Committee & Board Meeting
DESCRIPTION:Executive Committee: time variesBoard of Directors: 6:00 PM
URL:https://advocap-staging-byevakeyhgakaue5.westus3-01.azurewebsites.net/event/advocap-executive-committee-board-meetings-4/
LOCATION:Head Start Prairie View Center\, W911 Hwy 44\, Markesan\, WI\, 53946\, United States
CATEGORIES:ADVOCAP Meeting
END:VEVENT
BEGIN:VEVENT
DTSTART;TZID=America/Chicago:20250626T170000
DTEND;TZID=America/Chicago:20250626T200000
DTSTAMP:20260423T174008
CREATED:20250904T203301Z
LAST-MODIFIED:20250904T204925Z
UID:53653-1750957200-1750968000@advocap-staging-byevakeyhgakaue5.westus3-01.azurewebsites.net
SUMMARY:ADVOCAP Committee Meetings
DESCRIPTION:Finance & Personnel: 5:00 PMAdvocacy & Operations: 6:00 PMPlanning & Program Development: 7:00 PM
URL:https://advocap-staging-byevakeyhgakaue5.westus3-01.azurewebsites.net/event/advocap-committee-meetings-copy/
LOCATION:JP Coughlin Center\, 625 E County Road Y\, Oshkosh\, Wisconsin\, 54901\, United States
CATEGORIES:ADVOCAP Meeting
END:VEVENT
BEGIN:VEVENT
DTSTART;TZID=America/Chicago:20250522T170000
DTEND;TZID=America/Chicago:20250522T200000
DTSTAMP:20260423T174008
CREATED:20250904T204359Z
LAST-MODIFIED:20250904T205143Z
UID:53672-1747933200-1747944000@advocap-staging-byevakeyhgakaue5.westus3-01.azurewebsites.net
SUMMARY:ADVOCAP Executive Committee & Board Meeting
DESCRIPTION:Executive Committee: time variesBoard of Directors: 6:00 PM
URL:https://advocap-staging-byevakeyhgakaue5.westus3-01.azurewebsites.net/event/advocap-executive-committee-board-meetings-3/
LOCATION:ADVOCAP Fond du Lac Office\, 19 W 1st Street\, Fond du Lac\, WI\, 54935\, United States
CATEGORIES:ADVOCAP Meeting
END:VEVENT
BEGIN:VEVENT
DTSTART;TZID=America/Chicago:20250424T170000
DTEND;TZID=America/Chicago:20250424T200000
DTSTAMP:20260423T174008
CREATED:20250904T203042Z
LAST-MODIFIED:20250904T205038Z
UID:53649-1745514000-1745524800@advocap-staging-byevakeyhgakaue5.westus3-01.azurewebsites.net
SUMMARY:ADVOCAP Committee Meetings
DESCRIPTION:Finance & Personnel: 5:00 PMAdvocacy & Operations: 6:00 PMPlanning & Program Development: 7:00 PM
URL:https://advocap-staging-byevakeyhgakaue5.westus3-01.azurewebsites.net/event/advocap-committee-meetings-12/
LOCATION:ADVOCAP Neenah Office\, 181 E North Water Street\, Suite 210\, Neenah\, Wisconsin\, 54956\, United States
CATEGORIES:ADVOCAP Meeting
END:VEVENT
BEGIN:VEVENT
DTSTART;TZID=America/Chicago:20250327T170000
DTEND;TZID=America/Chicago:20250327T200000
DTSTAMP:20260423T174008
CREATED:20250904T204318Z
LAST-MODIFIED:20250904T205134Z
UID:53670-1743094800-1743105600@advocap-staging-byevakeyhgakaue5.westus3-01.azurewebsites.net
SUMMARY:ADVOCAP Executive Committee &a Board Meeting
DESCRIPTION:Executive Committee: time variesBoard of Directors: 6:00 PM
URL:https://advocap-staging-byevakeyhgakaue5.westus3-01.azurewebsites.net/event/advocap-executive-committee-board-meetings-2/
LOCATION:ADVOCAP Fond du Lac Office\, 19 W 1st Street\, Fond du Lac\, WI\, 54935\, United States
CATEGORIES:ADVOCAP Meeting
END:VEVENT
BEGIN:VEVENT
DTSTART;TZID=America/Chicago:20250227T170000
DTEND;TZID=America/Chicago:20250227T200000
DTSTAMP:20260423T174008
CREATED:20250904T202654Z
LAST-MODIFIED:20250904T205052Z
UID:53645-1740675600-1740686400@advocap-staging-byevakeyhgakaue5.westus3-01.azurewebsites.net
SUMMARY:ADVOCAP Committee Meetings
DESCRIPTION:Finance & Personnel: 5:00 PMAdvocacy & Operations: 6:00 PMPlanning & Program Development: 7:00 PM
URL:https://advocap-staging-byevakeyhgakaue5.westus3-01.azurewebsites.net/event/advocap-committee-meetings-11/
LOCATION:JP Coughlin Center\, 625 E County Road Y\, Oshkosh\, Wisconsin\, 54901\, United States
CATEGORIES:ADVOCAP Meeting
END:VEVENT
BEGIN:VEVENT
DTSTART;TZID=America/Chicago:20250123T170000
DTEND;TZID=America/Chicago:20250123T200000
DTSTAMP:20260423T174008
CREATED:20250904T204220Z
LAST-MODIFIED:20250904T205111Z
UID:53668-1737651600-1737662400@advocap-staging-byevakeyhgakaue5.westus3-01.azurewebsites.net
SUMMARY:ADVOCAP Executive Committee & Board Meetings
DESCRIPTION:Executive Committee: time variesBoard of Directors: 6:00 PM
URL:https://advocap-staging-byevakeyhgakaue5.westus3-01.azurewebsites.net/event/advocap-executive-committee-board-meetings/
LOCATION:ADVOCAP Fond du Lac Office\, 19 W 1st Street\, Fond du Lac\, WI\, 54935\, United States
CATEGORIES:ADVOCAP Meeting
END:VEVENT
BEGIN:VEVENT
DTSTART;TZID=America/Chicago:20241219T170000
DTEND;TZID=America/Chicago:20241219T200000
DTSTAMP:20260423T174008
CREATED:20240510T163006Z
LAST-MODIFIED:20241001T200802Z
UID:50288-1734627600-1734638400@advocap-staging-byevakeyhgakaue5.westus3-01.azurewebsites.net
SUMMARY:ADVOCAP Committee Meetings
DESCRIPTION:ADVOCAP Committee Meetings will be held at the J.P. Coughlin Center.* \n5:00 PM – Finance & Personnel Committee \n6:00 PM – Advocacy & Operations Committee \n7:00 PM – Planning & Program Development \n*Meeting start times are subject to change based on agenda.
URL:https://advocap-staging-byevakeyhgakaue5.westus3-01.azurewebsites.net/event/advocap-committee-meetings-10/
LOCATION:J.P. Coughlin Center\, 625 E. County Road Y\, Suite 600\, Oshkosh\, WI\, 54901\, United States
CATEGORIES:ADVOCAP Meeting
END:VEVENT
BEGIN:VEVENT
DTSTART;TZID=America/Chicago:20241107T180000
DTEND;TZID=America/Chicago:20241107T190000
DTSTAMP:20260423T174008
CREATED:20240510T170947Z
LAST-MODIFIED:20241001T200813Z
UID:50304-1731002400-1731006000@advocap-staging-byevakeyhgakaue5.westus3-01.azurewebsites.net
SUMMARY:ADVOCAP Board of Directors Meeting
DESCRIPTION:ADVOCAP’s Executive Committee meets prior to the Board Meeting as necessary.
URL:https://advocap-staging-byevakeyhgakaue5.westus3-01.azurewebsites.net/event/advocap-board-of-directors-meeting-8/
LOCATION:ADVOCAP Fond du Lac Office\, 19 W 1st Street\, Fond du Lac\, WI\, 54935\, United States
CATEGORIES:ADVOCAP Meeting
END:VEVENT
BEGIN:VEVENT
DTSTART;TZID=America/Chicago:20241017T170000
DTEND;TZID=America/Chicago:20241017T200000
DTSTAMP:20260423T174008
CREATED:20240510T162254Z
LAST-MODIFIED:20241001T200833Z
UID:50284-1729184400-1729195200@advocap-staging-byevakeyhgakaue5.westus3-01.azurewebsites.net
SUMMARY:ADVOCAP Committee Meetings
DESCRIPTION:ADVOCAP Committee Meetings will be held at the J.P. Coughlin Center.* \n5:00 PM – Finance & Personnel Committee \n6:00 PM – Advocacy & Operations Committee \n7:00 PM – Planning & Program Development \n*Meeting start times are subject to change based on agenda.
URL:https://advocap-staging-byevakeyhgakaue5.westus3-01.azurewebsites.net/event/advocap-committee-meetings-9/
LOCATION:J.P. Coughlin Center\, 625 E. County Road Y\, Suite 600\, Oshkosh\, WI\, 54901\, United States
CATEGORIES:ADVOCAP Meeting
END:VEVENT
END:VCALENDAR