BEGIN:VCALENDAR
VERSION:2.0
PRODID:-//ADVOCAP - ECPv6.15.14//NONSGML v1.0//EN
CALSCALE:GREGORIAN
METHOD:PUBLISH
X-ORIGINAL-URL:https://advocap-staging-byevakeyhgakaue5.westus3-01.azurewebsites.net
X-WR-CALDESC:Events for ADVOCAP
REFRESH-INTERVAL;VALUE=DURATION:PT1H
X-Robots-Tag:noindex
X-PUBLISHED-TTL:PT1H
BEGIN:VTIMEZONE
TZID:America/Chicago
BEGIN:DAYLIGHT
TZOFFSETFROM:-0600
TZOFFSETTO:-0500
TZNAME:CDT
DTSTART:20230312T080000
END:DAYLIGHT
BEGIN:STANDARD
TZOFFSETFROM:-0500
TZOFFSETTO:-0600
TZNAME:CST
DTSTART:20231105T070000
END:STANDARD
BEGIN:DAYLIGHT
TZOFFSETFROM:-0600
TZOFFSETTO:-0500
TZNAME:CDT
DTSTART:20240310T080000
END:DAYLIGHT
BEGIN:STANDARD
TZOFFSETFROM:-0500
TZOFFSETTO:-0600
TZNAME:CST
DTSTART:20241103T070000
END:STANDARD
BEGIN:DAYLIGHT
TZOFFSETFROM:-0600
TZOFFSETTO:-0500
TZNAME:CDT
DTSTART:20250309T080000
END:DAYLIGHT
BEGIN:STANDARD
TZOFFSETFROM:-0500
TZOFFSETTO:-0600
TZNAME:CST
DTSTART:20251102T070000
END:STANDARD
END:VTIMEZONE
BEGIN:VEVENT
DTSTART;TZID=America/Chicago:20241205T180000
DTEND;TZID=America/Chicago:20241205T200000
DTSTAMP:20260425T073854
CREATED:20240510T172451Z
LAST-MODIFIED:20241001T200807Z
UID:50311-1733421600-1733428800@advocap-staging-byevakeyhgakaue5.westus3-01.azurewebsites.net
SUMMARY:ADVOCAP Holiday Party
DESCRIPTION:Venue and program TBD
URL:https://advocap-staging-byevakeyhgakaue5.westus3-01.azurewebsites.net/event/advocap-holiday-party/
LOCATION:WI
CATEGORIES:ADVOCAP Event
END:VEVENT
END:VCALENDAR