BEGIN:VCALENDAR
VERSION:2.0
PRODID:-//ADVOCAP - ECPv6.15.14//NONSGML v1.0//EN
CALSCALE:GREGORIAN
METHOD:PUBLISH
X-ORIGINAL-URL:https://advocap-staging-byevakeyhgakaue5.westus3-01.azurewebsites.net
X-WR-CALDESC:Events for ADVOCAP
REFRESH-INTERVAL;VALUE=DURATION:PT1H
X-Robots-Tag:noindex
X-PUBLISHED-TTL:PT1H
BEGIN:VTIMEZONE
TZID:America/Chicago
BEGIN:DAYLIGHT
TZOFFSETFROM:-0600
TZOFFSETTO:-0500
TZNAME:CDT
DTSTART:20230312T080000
END:DAYLIGHT
BEGIN:STANDARD
TZOFFSETFROM:-0500
TZOFFSETTO:-0600
TZNAME:CST
DTSTART:20231105T070000
END:STANDARD
BEGIN:DAYLIGHT
TZOFFSETFROM:-0600
TZOFFSETTO:-0500
TZNAME:CDT
DTSTART:20240310T080000
END:DAYLIGHT
BEGIN:STANDARD
TZOFFSETFROM:-0500
TZOFFSETTO:-0600
TZNAME:CST
DTSTART:20241103T070000
END:STANDARD
BEGIN:DAYLIGHT
TZOFFSETFROM:-0600
TZOFFSETTO:-0500
TZNAME:CDT
DTSTART:20250309T080000
END:DAYLIGHT
BEGIN:STANDARD
TZOFFSETFROM:-0500
TZOFFSETTO:-0600
TZNAME:CST
DTSTART:20251102T070000
END:STANDARD
END:VTIMEZONE
BEGIN:VEVENT
DTSTART;TZID=America/Chicago:20241014T160000
DTEND;TZID=America/Chicago:20241014T173000
DTSTAMP:20260425T112429
CREATED:20241002T180852Z
LAST-MODIFIED:20241002T183119Z
UID:51130-1728921600-1728927000@advocap-staging-byevakeyhgakaue5.westus3-01.azurewebsites.net
SUMMARY:2024 Trunk or Treat - Green Lake Site
DESCRIPTION:Join the Boys & Girls Club of the Tri-County Area on Monday\, October 14th from 4:00 – 5:30pm for our Green Lake site’s Trunk or Treat!  Participating businesses and organizations will be decorating their trunks and handing out candy to the children trick or treating. All cars will be lined up on the north side of Town Square in the lots near the Club entrance as well as on a portion of Water Street (which will be closed to traffic).  \n\n\n\n This safe\, fun and FREE kids event is open to the public. Dress up in your ghoulish costume and visit area businesses’ trunks for various treats!
URL:https://advocap-staging-byevakeyhgakaue5.westus3-01.azurewebsites.net/event/2024-trunk-or-treat-green-lake-site/
LOCATION:Green Lake Town Square\, 492 Hill Street\, Green Lake\, WI\, 54941\, United States
CATEGORIES:Community Event
ORGANIZER;CN="Boys &amp%3B Girls Club of the Tri-County Area":MAILTO:info@bgctric.org
END:VEVENT
END:VCALENDAR