BEGIN:VCALENDAR
VERSION:2.0
PRODID:-//ADVOCAP - ECPv6.15.14//NONSGML v1.0//EN
CALSCALE:GREGORIAN
METHOD:PUBLISH
X-ORIGINAL-URL:https://advocap-staging-byevakeyhgakaue5.westus3-01.azurewebsites.net
X-WR-CALDESC:Events for ADVOCAP
REFRESH-INTERVAL;VALUE=DURATION:PT1H
X-Robots-Tag:noindex
X-PUBLISHED-TTL:PT1H
BEGIN:VTIMEZONE
TZID:America/Chicago
BEGIN:DAYLIGHT
TZOFFSETFROM:-0600
TZOFFSETTO:-0500
TZNAME:CDT
DTSTART:20230312T080000
END:DAYLIGHT
BEGIN:STANDARD
TZOFFSETFROM:-0500
TZOFFSETTO:-0600
TZNAME:CST
DTSTART:20231105T070000
END:STANDARD
BEGIN:DAYLIGHT
TZOFFSETFROM:-0600
TZOFFSETTO:-0500
TZNAME:CDT
DTSTART:20240310T080000
END:DAYLIGHT
BEGIN:STANDARD
TZOFFSETFROM:-0500
TZOFFSETTO:-0600
TZNAME:CST
DTSTART:20241103T070000
END:STANDARD
BEGIN:DAYLIGHT
TZOFFSETFROM:-0600
TZOFFSETTO:-0500
TZNAME:CDT
DTSTART:20250309T080000
END:DAYLIGHT
BEGIN:STANDARD
TZOFFSETFROM:-0500
TZOFFSETTO:-0600
TZNAME:CST
DTSTART:20251102T070000
END:STANDARD
END:VTIMEZONE
BEGIN:VEVENT
DTSTART;TZID=America/Chicago:20241009T170000
DTEND;TZID=America/Chicago:20241009T190000
DTSTAMP:20260425T112424
CREATED:20241001T200534Z
LAST-MODIFIED:20241001T200743Z
UID:51104-1728493200-1728500400@advocap-staging-byevakeyhgakaue5.westus3-01.azurewebsites.net
SUMMARY:Green Lake Take Back the Night
DESCRIPTION:Take Back the Night in Green Lake County! \n\n\n\nADVOCAP will be in Green Lake on October 9th\, attending the Take Back the Night event\, hosted by The Christine Ann Center\, ASTOP Sexual Abuse Center\, and Green Lake County Public Health. \n\n\n\nTake Back the Night is a powerful evening of remembrance and action in Green Lake County. Together\, we will honor those lost to domestic abuse and stand united against violence in our community. \n\n\n\nLight snacks and refreshments will be provided. \n\n\n\nWednesday\, October 9th\, 5:00PM-7:00PM \n\n\n\nGreen Lake High School Gym612 Mill St\, Green Lake\, WI 54941 (use Scott St entrance) \n\n\n\nResource Fair: 5pm-6pmSurvivor Speaker: 6pm-6:30pmClosing Remarks: 6:30-7pm
URL:https://advocap-staging-byevakeyhgakaue5.westus3-01.azurewebsites.net/event/green-lake-take-back-the-night/
LOCATION:Green Lake High School\, 612 Mill St\, Green Lake\, WI\, 54941\, United States
CATEGORIES:Community Event
ORGANIZER;CN="Christine Ann Domestic Abuse Services%2C Inc":MAILTO:info@christineann.net
END:VEVENT
END:VCALENDAR