BEGIN:VCALENDAR
VERSION:2.0
PRODID:-//ADVOCAP - ECPv6.15.14//NONSGML v1.0//EN
CALSCALE:GREGORIAN
METHOD:PUBLISH
X-WR-CALNAME:ADVOCAP
X-ORIGINAL-URL:https://advocap-staging-byevakeyhgakaue5.westus3-01.azurewebsites.net
X-WR-CALDESC:Events for ADVOCAP
REFRESH-INTERVAL;VALUE=DURATION:PT1H
X-Robots-Tag:noindex
X-PUBLISHED-TTL:PT1H
BEGIN:VTIMEZONE
TZID:America/Chicago
BEGIN:DAYLIGHT
TZOFFSETFROM:-0600
TZOFFSETTO:-0500
TZNAME:CDT
DTSTART:20230312T080000
END:DAYLIGHT
BEGIN:STANDARD
TZOFFSETFROM:-0500
TZOFFSETTO:-0600
TZNAME:CST
DTSTART:20231105T070000
END:STANDARD
BEGIN:DAYLIGHT
TZOFFSETFROM:-0600
TZOFFSETTO:-0500
TZNAME:CDT
DTSTART:20240310T080000
END:DAYLIGHT
BEGIN:STANDARD
TZOFFSETFROM:-0500
TZOFFSETTO:-0600
TZNAME:CST
DTSTART:20241103T070000
END:STANDARD
BEGIN:DAYLIGHT
TZOFFSETFROM:-0600
TZOFFSETTO:-0500
TZNAME:CDT
DTSTART:20250309T080000
END:DAYLIGHT
BEGIN:STANDARD
TZOFFSETFROM:-0500
TZOFFSETTO:-0600
TZNAME:CST
DTSTART:20251102T070000
END:STANDARD
END:VTIMEZONE
BEGIN:VEVENT
DTSTART;TZID=America/Chicago:20241001T090000
DTEND;TZID=America/Chicago:20241001T130000
DTSTAMP:20260425T112404
CREATED:20240926T163646Z
LAST-MODIFIED:20241002T181533Z
UID:51036-1727773200-1727787600@advocap-staging-byevakeyhgakaue5.westus3-01.azurewebsites.net
SUMMARY:Time of Your Life Senior Expo
DESCRIPTION:Exhibitors\, Resources\, Clinics\, Door Prizes\n\n\n\nExhibitors will include representatives from retirement living communities\, health care facilities\, home healthcare agencies\, financial planners\, insurance companies\, medical facilities\,  travel\, legal assistance\, recreation & fitness\, charities\, medical equipment\, government agencies & programs\, rehabilitation centers among many others. \n\n\n\n70+ ExhibitorsWith Senior Programs & Services\n\n\n\nA Wealth of KnowledgeDoctors and Health Care FacilitiesFinancial Planners and Insurance companiesGovernment Programs & AgenciesHome Health Care agenciesLegal AssistanceRecreation & FitnessRetirement Living & Medical OptionsTravel & LeisureOther Senior related products\n\n\n\nResourcesMedicare\, Social Security and Aging and Disability Resource Center assistanceOshkosh Seniors CenterPharmacy InformationWinnebago County Departments\n\n\n\nDoor Prizes and Special GiveawaysDoor Prizes – Drawn Every Half Hour; Must be Present to WinGrand Prize – Need not be Present to Win; Drawing at 1:00pm\n\n\n\n2024 Grand Prize – $250 Piggly Wiggly Gift Card\n\n\n\nFor Your HealthFREE Health Screenings\, Free Hearing TestsFree Flu Shots (bring your Medicare and insurance cardsView expo website for seminar details.
URL:https://advocap-staging-byevakeyhgakaue5.westus3-01.azurewebsites.net/event/time-of-your-life-senior-expo/
LOCATION:Oshkosh Convention Center\, 2 N Main Street\, Oshkosh\, WI\, 54901\, United States
CATEGORIES:Community Event
ORGANIZER;CN="Time of Your Life Senior Expo":MAILTO:jeanne@selectiveshows.com
END:VEVENT
END:VCALENDAR