BEGIN:VCALENDAR
VERSION:2.0
PRODID:-//ADVOCAP - ECPv6.15.14//NONSGML v1.0//EN
CALSCALE:GREGORIAN
METHOD:PUBLISH
X-ORIGINAL-URL:https://advocap-staging-byevakeyhgakaue5.westus3-01.azurewebsites.net
X-WR-CALDESC:Events for ADVOCAP
REFRESH-INTERVAL;VALUE=DURATION:PT1H
X-Robots-Tag:noindex
X-PUBLISHED-TTL:PT1H
BEGIN:VTIMEZONE
TZID:America/Chicago
BEGIN:DAYLIGHT
TZOFFSETFROM:-0600
TZOFFSETTO:-0500
TZNAME:CDT
DTSTART:20230312T080000
END:DAYLIGHT
BEGIN:STANDARD
TZOFFSETFROM:-0500
TZOFFSETTO:-0600
TZNAME:CST
DTSTART:20231105T070000
END:STANDARD
BEGIN:DAYLIGHT
TZOFFSETFROM:-0600
TZOFFSETTO:-0500
TZNAME:CDT
DTSTART:20240310T080000
END:DAYLIGHT
BEGIN:STANDARD
TZOFFSETFROM:-0500
TZOFFSETTO:-0600
TZNAME:CST
DTSTART:20241103T070000
END:STANDARD
BEGIN:DAYLIGHT
TZOFFSETFROM:-0600
TZOFFSETTO:-0500
TZNAME:CDT
DTSTART:20250309T080000
END:DAYLIGHT
BEGIN:STANDARD
TZOFFSETFROM:-0500
TZOFFSETTO:-0600
TZNAME:CST
DTSTART:20251102T070000
END:STANDARD
END:VTIMEZONE
BEGIN:VEVENT
DTSTART;TZID=America/Chicago:20240911T100000
DTEND;TZID=America/Chicago:20240911T140000
DTSTAMP:20260425T153927
CREATED:20240813T151442Z
LAST-MODIFIED:20240813T151447Z
UID:50818-1726048800-1726063200@advocap-staging-byevakeyhgakaue5.westus3-01.azurewebsites.net
SUMMARY:Green Lake County Health & Wellness Fair
DESCRIPTION:2024 Green Lake County Health and Wellness Fair will be held\, Wednesday\, September 11 from 10:00-2:00 at Town Square Community Center. There are many new changes this year\, including moving all vendors into a bigger space in the Bingo Hall at Town Square\, live music\, shuttle service provided by Green Lake Shuttle\, and Town Square Tap being open to serve any refreshments you’d like. This event is FREE and open to anyone\, regardless of age or county of residence. Grizzly Fitness Berlin will also be offering free class vouchers to the first 30 people who visit their table that day!
URL:https://advocap-staging-byevakeyhgakaue5.westus3-01.azurewebsites.net/event/green-lake-county-health-wellness-fair/
LOCATION:Green Lake Town Square\, 492 Hill Street\, Green Lake\, WI\, 54941\, United States
ORGANIZER;CN="Green Lake County Aging/Long Term Care":MAILTO:glcdhhs@greenlakecountywi.gov
END:VEVENT
END:VCALENDAR